BEGIN:VCALENDAR
VERSION:2.0
PRODID:-//Justice Necessary - ECPv6.15.17.1//NONSGML v1.0//EN
CALSCALE:GREGORIAN
METHOD:PUBLISH
X-WR-CALNAME:Justice Necessary
X-ORIGINAL-URL:https://justicenecessary.org
X-WR-CALDESC:Events for Justice Necessary
REFRESH-INTERVAL;VALUE=DURATION:PT1H
X-Robots-Tag:noindex
X-PUBLISHED-TTL:PT1H
BEGIN:VTIMEZONE
TZID:America/Denver
BEGIN:DAYLIGHT
TZOFFSETFROM:-0700
TZOFFSETTO:-0600
TZNAME:MDT
DTSTART:20240310T090000
END:DAYLIGHT
BEGIN:STANDARD
TZOFFSETFROM:-0600
TZOFFSETTO:-0700
TZNAME:MST
DTSTART:20241103T080000
END:STANDARD
BEGIN:DAYLIGHT
TZOFFSETFROM:-0700
TZOFFSETTO:-0600
TZNAME:MDT
DTSTART:20250309T090000
END:DAYLIGHT
BEGIN:STANDARD
TZOFFSETFROM:-0600
TZOFFSETTO:-0700
TZNAME:MST
DTSTART:20251102T080000
END:STANDARD
BEGIN:DAYLIGHT
TZOFFSETFROM:-0700
TZOFFSETTO:-0600
TZNAME:MDT
DTSTART:20260308T090000
END:DAYLIGHT
BEGIN:STANDARD
TZOFFSETFROM:-0600
TZOFFSETTO:-0700
TZNAME:MST
DTSTART:20261101T080000
END:STANDARD
END:VTIMEZONE
BEGIN:VEVENT
DTSTART;TZID=America/Denver:20250819T170000
DTEND;TZID=America/Denver:20250819T190000
DTSTAMP:20260421T112703
CREATED:20251027T162440Z
LAST-MODIFIED:20251105T195704Z
UID:2499-1755622800-1755630000@justicenecessary.org
SUMMARY:🌟 National Bleeding Disorder Foundation Annual Meeting
DESCRIPTION:Period poverty and bleeding disorders are inextricably connected—for example\, hematologists report that some women don’t realize that they have bleeding disorders until they’re asked about how many period products they go through every month! Justice Necessary is excited to partner with the National Bleeding Disorder Foundation by packing menstrual kits for the Colorado community during their Annual All-Staff Meeting\, as well as running a menstrual product drive. \nNBDF volunteers packed 500 one-month kits and donated twenty pounds of menstrual products during this event !
URL:https://justicenecessary.org/event/national-bleeding-disorder-foundation-annual-meeting/
LOCATION:Gaylord Rockies Resort & Convention Center\, 6700 N Gaylord Rockies Blvd\, Aurora\, CO\, 80019\, United States
CATEGORIES:Event
END:VEVENT
END:VCALENDAR