BEGIN:VCALENDAR
VERSION:2.0
PRODID:-//Justice Necessary - ECPv6.15.17.1//NONSGML v1.0//EN
CALSCALE:GREGORIAN
METHOD:PUBLISH
X-WR-CALNAME:Justice Necessary
X-ORIGINAL-URL:https://justicenecessary.org
X-WR-CALDESC:Events for Justice Necessary
REFRESH-INTERVAL;VALUE=DURATION:PT1H
X-Robots-Tag:noindex
X-PUBLISHED-TTL:PT1H
BEGIN:VTIMEZONE
TZID:America/Denver
BEGIN:DAYLIGHT
TZOFFSETFROM:-0700
TZOFFSETTO:-0600
TZNAME:MDT
DTSTART:20240310T090000
END:DAYLIGHT
BEGIN:STANDARD
TZOFFSETFROM:-0600
TZOFFSETTO:-0700
TZNAME:MST
DTSTART:20241103T080000
END:STANDARD
BEGIN:DAYLIGHT
TZOFFSETFROM:-0700
TZOFFSETTO:-0600
TZNAME:MDT
DTSTART:20250309T090000
END:DAYLIGHT
BEGIN:STANDARD
TZOFFSETFROM:-0600
TZOFFSETTO:-0700
TZNAME:MST
DTSTART:20251102T080000
END:STANDARD
BEGIN:DAYLIGHT
TZOFFSETFROM:-0700
TZOFFSETTO:-0600
TZNAME:MDT
DTSTART:20260308T090000
END:DAYLIGHT
BEGIN:STANDARD
TZOFFSETFROM:-0600
TZOFFSETTO:-0700
TZNAME:MST
DTSTART:20261101T080000
END:STANDARD
END:VTIMEZONE
BEGIN:VEVENT
DTSTART;TZID=America/Denver:20250827T093000
DTEND;TZID=America/Denver:20250827T113000
DTSTAMP:20260421T033222
CREATED:20251027T162121Z
LAST-MODIFIED:20251027T162231Z
UID:2497-1756287000-1756294200@justicenecessary.org
SUMMARY:💪 Wellness Professionals Convening
DESCRIPTION:Did you know that providing proper hygiene products is the most cost-effective method of fighting disease? Justice Necessary is a table sponsor of this community event and will have staff present to talk about how hygiene and health are inextricably connected.
URL:https://justicenecessary.org/event/wellness-professionals-convening/
LOCATION:Fit Body Boot Camp of Northwest Arvada\, 16255 W 64th Ave #3\, Arvada\, CO\, 80007\, United States
CATEGORIES:Event
END:VEVENT
END:VCALENDAR