BEGIN:VCALENDAR
VERSION:2.0
PRODID:-//Justice Necessary - ECPv6.15.17.1//NONSGML v1.0//EN
CALSCALE:GREGORIAN
METHOD:PUBLISH
X-WR-CALNAME:Justice Necessary
X-ORIGINAL-URL:https://justicenecessary.org
X-WR-CALDESC:Events for Justice Necessary
REFRESH-INTERVAL;VALUE=DURATION:PT1H
X-Robots-Tag:noindex
X-PUBLISHED-TTL:PT1H
BEGIN:VTIMEZONE
TZID:America/Denver
BEGIN:DAYLIGHT
TZOFFSETFROM:-0700
TZOFFSETTO:-0600
TZNAME:MDT
DTSTART:20250309T090000
END:DAYLIGHT
BEGIN:STANDARD
TZOFFSETFROM:-0600
TZOFFSETTO:-0700
TZNAME:MST
DTSTART:20251102T080000
END:STANDARD
BEGIN:DAYLIGHT
TZOFFSETFROM:-0700
TZOFFSETTO:-0600
TZNAME:MDT
DTSTART:20260308T090000
END:DAYLIGHT
BEGIN:STANDARD
TZOFFSETFROM:-0600
TZOFFSETTO:-0700
TZNAME:MST
DTSTART:20261101T080000
END:STANDARD
BEGIN:DAYLIGHT
TZOFFSETFROM:-0700
TZOFFSETTO:-0600
TZNAME:MDT
DTSTART:20270314T090000
END:DAYLIGHT
BEGIN:STANDARD
TZOFFSETFROM:-0600
TZOFFSETTO:-0700
TZNAME:MST
DTSTART:20271107T080000
END:STANDARD
END:VTIMEZONE
BEGIN:VEVENT
DTSTART;VALUE=DATE:20260303
DTEND;VALUE=DATE:20260304
DTSTAMP:20260422T160136
CREATED:20260324T175105Z
LAST-MODIFIED:20260324T180334Z
UID:10000224-1772496000-1772582399@justicenecessary.org
SUMMARY:💖 Overture Packing Project
DESCRIPTION:Each month\, residents at Overture come together to pack period products and laundry detergent sheets for neighbors in need as part of their ongoing volunteer partnership with Justice Necessary. Their dedication helps address a growing challenge across the state—46% of Coloradans struggling to access hygiene products experience hygiene poverty. Through their continued support\, Overture residents are helping ensure more families have access to essential hygiene items. \nThis is a closed event. Interested in volunteering? Contact us at volunteer@justicenecessary.org!
URL:https://justicenecessary.org/event/overture-march/
CATEGORIES:Event
END:VEVENT
END:VCALENDAR