BEGIN:VCALENDAR
VERSION:2.0
PRODID:-//Justice Necessary - ECPv6.15.17.1//NONSGML v1.0//EN
CALSCALE:GREGORIAN
METHOD:PUBLISH
X-WR-CALNAME:Justice Necessary
X-ORIGINAL-URL:https://justicenecessary.org
X-WR-CALDESC:Events for Justice Necessary
REFRESH-INTERVAL;VALUE=DURATION:PT1H
X-Robots-Tag:noindex
X-PUBLISHED-TTL:PT1H
BEGIN:VTIMEZONE
TZID:America/Denver
BEGIN:DAYLIGHT
TZOFFSETFROM:-0700
TZOFFSETTO:-0600
TZNAME:MDT
DTSTART:20250309T090000
END:DAYLIGHT
BEGIN:STANDARD
TZOFFSETFROM:-0600
TZOFFSETTO:-0700
TZNAME:MST
DTSTART:20251102T080000
END:STANDARD
BEGIN:DAYLIGHT
TZOFFSETFROM:-0700
TZOFFSETTO:-0600
TZNAME:MDT
DTSTART:20260308T090000
END:DAYLIGHT
BEGIN:STANDARD
TZOFFSETFROM:-0600
TZOFFSETTO:-0700
TZNAME:MST
DTSTART:20261101T080000
END:STANDARD
BEGIN:DAYLIGHT
TZOFFSETFROM:-0700
TZOFFSETTO:-0600
TZNAME:MDT
DTSTART:20270314T090000
END:DAYLIGHT
BEGIN:STANDARD
TZOFFSETFROM:-0600
TZOFFSETTO:-0700
TZNAME:MST
DTSTART:20271107T080000
END:STANDARD
END:VTIMEZONE
BEGIN:VEVENT
DTSTART;VALUE=DATE:20260418
DTEND;VALUE=DATE:20260419
DTSTAMP:20260424T031639
CREATED:20260324T173053Z
LAST-MODIFIED:20260324T173053Z
UID:10000221-1776470400-1776556799@justicenecessary.org
SUMMARY:🤲 Buffs Give Back (Private)
DESCRIPTION:Justice Necessary is proud to partner with CU Boulder and their alumni association by celebrating Buffs Give Back and National Volunteer Month. Buffs Give Back is an annual celebration of various service activities during the month of April aimed at connecting alumni\, friends\, and families of CU Boulder.  \nWhile this is a private event\, if you are an alumni or know an alumni of CU Boulder\, check out their page for various opportunities! https://colorado.givepulse.com/group/579537-Forever-Buffs-Volunteers
URL:https://justicenecessary.org/event/%f0%9f%a4%b2-buffs-give-back-private/
CATEGORIES:Event
END:VEVENT
END:VCALENDAR