BEGIN:VCALENDAR
VERSION:2.0
PRODID:-//Justice Necessary - ECPv6.15.17.1//NONSGML v1.0//EN
CALSCALE:GREGORIAN
METHOD:PUBLISH
X-ORIGINAL-URL:https://justicenecessary.org
X-WR-CALDESC:Events for Justice Necessary
REFRESH-INTERVAL;VALUE=DURATION:PT1H
X-Robots-Tag:noindex
X-PUBLISHED-TTL:PT1H
BEGIN:VTIMEZONE
TZID:America/Denver
BEGIN:DAYLIGHT
TZOFFSETFROM:-0700
TZOFFSETTO:-0600
TZNAME:MDT
DTSTART:20240310T090000
END:DAYLIGHT
BEGIN:STANDARD
TZOFFSETFROM:-0600
TZOFFSETTO:-0700
TZNAME:MST
DTSTART:20241103T080000
END:STANDARD
BEGIN:DAYLIGHT
TZOFFSETFROM:-0700
TZOFFSETTO:-0600
TZNAME:MDT
DTSTART:20250309T090000
END:DAYLIGHT
BEGIN:STANDARD
TZOFFSETFROM:-0600
TZOFFSETTO:-0700
TZNAME:MST
DTSTART:20251102T080000
END:STANDARD
BEGIN:DAYLIGHT
TZOFFSETFROM:-0700
TZOFFSETTO:-0600
TZNAME:MDT
DTSTART:20260308T090000
END:DAYLIGHT
BEGIN:STANDARD
TZOFFSETFROM:-0600
TZOFFSETTO:-0700
TZNAME:MST
DTSTART:20261101T080000
END:STANDARD
END:VTIMEZONE
BEGIN:VEVENT
DTSTART;TZID=America/Denver:20251205T100000
DTEND;TZID=America/Denver:20251205T160000
DTSTAMP:20260422T044953
CREATED:20251107T164758Z
LAST-MODIFIED:20251107T164758Z
UID:10000132-1764928800-1764950400@justicenecessary.org
SUMMARY:🌟 Drop-in Volunteer Fridays
DESCRIPTION:Want to make a difference? Join Justice Necessary every Friday between 10 a.m. – 4:00 p.m. for drop-in volunteer days! Come by our warehouse at 6452 Fig Street\, Unit F in Arvada for an hour or stay all day! \nPlease sign up here to let us know us you’re coming\, or just drop in!
URL:https://justicenecessary.org/event/drop-in-volunteer-fridays-5/
LOCATION:Justice Necessary Warehouse\, 6452 Fig Street\, Unit F\, Arvada\, CO\, United States
CATEGORIES:Event
ATTACH;FMTTYPE=image/png:https://justicenecessary.org/wp-content/uploads/2025/02/JN_logo_TM-01-1.png
END:VEVENT
BEGIN:VEVENT
DTSTART;TZID=America/Denver:20251212T090000
DTEND;TZID=America/Denver:20251212T100000
DTSTAMP:20260422T044953
CREATED:20251124T172913Z
LAST-MODIFIED:20251124T172923Z
UID:10000184-1765530000-1765533600@justicenecessary.org
SUMMARY:🎗💜 Cystic Fibrosis Foundation Board of Directors' Meeting
DESCRIPTION:Access to hygiene is the most cost-effective way to reduce illness.  As a Cystic Fibrosis patient\, Diane — founder and president of Justice Necessary — understands hygiene’s critical role in maintaining health. Justice Necessary is pleased to host the Cystic Fibrosis Board of Directors’ Meeting as part of this awareness that hygiene and health are inextricably interwoven\, and are excited to have the CFF Board partner with us to pack hygiene kits after their event! \nWould you like to partner with Justice Necessary to host an event or private meeting? Contact us at hello@justicenecessary.org.
URL:https://justicenecessary.org/event/cystic-fibrosis-foundation-board-of-directors-meeting/
CATEGORIES:Event
END:VEVENT
BEGIN:VEVENT
DTSTART;TZID=America/Denver:20251212T100000
DTEND;TZID=America/Denver:20251212T160000
DTSTAMP:20260422T044953
CREATED:20251107T164842Z
LAST-MODIFIED:20251107T164843Z
UID:10000133-1765533600-1765555200@justicenecessary.org
SUMMARY:🌟 Drop-in Volunteer Fridays
DESCRIPTION:Want to make a difference? Join Justice Necessary every Friday between 10 a.m. – 4:00 p.m. for drop-in volunteer days! Come by our warehouse at 6452 Fig Street\, Unit F in Arvada for an hour or stay all day! \nPlease sign up here to let us know us you’re coming\, or just drop in!
URL:https://justicenecessary.org/event/drop-in-volunteer-fridays-6/
LOCATION:Justice Necessary Warehouse\, 6452 Fig Street\, Unit F\, Arvada\, CO\, United States
CATEGORIES:Event
ATTACH;FMTTYPE=image/png:https://justicenecessary.org/wp-content/uploads/2025/02/JN_logo_TM-01-1.png
END:VEVENT
BEGIN:VEVENT
DTSTART;TZID=America/Denver:20251219T100000
DTEND;TZID=America/Denver:20251219T160000
DTSTAMP:20260422T044953
CREATED:20251107T164916Z
LAST-MODIFIED:20251216T212700Z
UID:10000134-1766138400-1766160000@justicenecessary.org
SUMMARY:🌟 CANCELLED 12/19 - Drop-in Volunteer Fridays
DESCRIPTION:This event has been canceled due to a severe weather advisory.
URL:https://justicenecessary.org/event/drop-in-volunteer-fridays-7/
LOCATION:Justice Necessary Warehouse\, 6452 Fig Street\, Unit F\, Arvada\, CO\, United States
CATEGORIES:Event
ATTACH;FMTTYPE=image/png:https://justicenecessary.org/wp-content/uploads/2025/02/JN_logo_TM-01-1.png
END:VEVENT
BEGIN:VEVENT
DTSTART;TZID=America/Denver:20251226T100000
DTEND;TZID=America/Denver:20251226T140000
DTSTAMP:20260422T044953
CREATED:20251216T213053Z
LAST-MODIFIED:20251216T213053Z
UID:10000135-1766743200-1766757600@justicenecessary.org
SUMMARY:🌟 Drop-in Volunteer Fridays
DESCRIPTION:Want to make a difference? Join Justice Necessary every Friday between 10 a.m. – 4:00 p.m. for drop-in volunteer days! Come by our warehouse at 6452 Fig Street\, Unit F in Arvada for an hour or stay all day! \nPlease sign up here to let us know you’re coming\, or just drop in! – 12/26
URL:https://justicenecessary.org/event/drop-in-volunteer-fridays-8/
LOCATION:Justice Necessary Warehouse\, 6452 Fig Street\, Unit F\, Arvada\, CO\, United States
CATEGORIES:Event
ATTACH;FMTTYPE=image/png:https://justicenecessary.org/wp-content/uploads/2025/02/JN_logo_TM-01-1.png
END:VEVENT
END:VCALENDAR